BEGIN:VCALENDAR
VERSION:2.0
PRODID:-//Reis Events - ECPv6.6.4.2//NONSGML v1.0//EN
CALSCALE:GREGORIAN
METHOD:PUBLISH
X-WR-CALNAME:Reis Events
X-ORIGINAL-URL:https://www.reis-events.nl
X-WR-CALDESC:Evenementen voor Reis Events
REFRESH-INTERVAL;VALUE=DURATION:PT1H
X-Robots-Tag:noindex
X-PUBLISHED-TTL:PT1H
BEGIN:VTIMEZONE
TZID:Europe/Helsinki
BEGIN:DAYLIGHT
TZOFFSETFROM:+0200
TZOFFSETTO:+0300
TZNAME:EEST
DTSTART:20260329T010000
END:DAYLIGHT
BEGIN:STANDARD
TZOFFSETFROM:+0300
TZOFFSETTO:+0200
TZNAME:EET
DTSTART:20261025T010000
END:STANDARD
BEGIN:DAYLIGHT
TZOFFSETFROM:+0200
TZOFFSETTO:+0300
TZNAME:EEST
DTSTART:20270328T010000
END:DAYLIGHT
BEGIN:STANDARD
TZOFFSETFROM:+0300
TZOFFSETTO:+0200
TZNAME:EET
DTSTART:20271031T010000
END:STANDARD
END:VTIMEZONE
BEGIN:VEVENT
DTSTART;VALUE=DATE:20261003
DTEND;VALUE=DATE:20261005
DTSTAMP:20260421T152530
CREATED:20251124T080127Z
LAST-MODIFIED:20251124T080823Z
UID:142337-1790985600-1791158399@www.reis-events.nl
SUMMARY:Verre Reizen & Cruise Event 2026 Mechelen
DESCRIPTION:
URL:https://www.reis-events.nl/event/verre-reizen-cruise-event-2026-mechelen/
LOCATION:De Nekkerhal\, Mechelen\, Plattebeekstraat 1\, Mechelen\, 2800\, Belgium
END:VEVENT
BEGIN:VEVENT
DTSTART;VALUE=DATE:20261010
DTEND;VALUE=DATE:20261012
DTSTAMP:20260421T152530
CREATED:20251027T140701Z
LAST-MODIFIED:20251027T141156Z
UID:142269-1791590400-1791763199@www.reis-events.nl
SUMMARY:Verre Reizen & Cruise Event 2026 Gorinchem
DESCRIPTION:
URL:https://www.reis-events.nl/event/verre-reizen-cruise-event-2026-gorinchem/
END:VEVENT
BEGIN:VEVENT
DTSTART;VALUE=DATE:20261017
DTEND;VALUE=DATE:20261019
DTSTAMP:20260421T152530
CREATED:20251027T143651Z
LAST-MODIFIED:20251027T144023Z
UID:142282-1792195200-1792367999@www.reis-events.nl
SUMMARY:Verre Reizen & Cruise Event 2026 Groningen
DESCRIPTION:
URL:https://www.reis-events.nl/event/verre-reizen-cruise-event-2026-groningen/
END:VEVENT
BEGIN:VEVENT
DTSTART;VALUE=DATE:20270403
DTEND;VALUE=DATE:20270405
DTSTAMP:20260421T152530
CREATED:20260202T195922Z
LAST-MODIFIED:20260202T202526Z
UID:142699-1806710400-1806883199@www.reis-events.nl
SUMMARY:Verre Reizen & Cruise Event 2027 Hardenberg
DESCRIPTION:
URL:https://www.reis-events.nl/event/verre-reizen-cruise-event-2027-hardenberg/
END:VEVENT
END:VCALENDAR